BEGIN:VCALENDAR
VERSION:2.0
PRODID:-//Mindful Directory - ECPv6.9.1//NONSGML v1.0//EN
CALSCALE:GREGORIAN
METHOD:PUBLISH
X-WR-CALNAME:Mindful Directory
X-ORIGINAL-URL:https://www.mindfuldirectory.org
X-WR-CALDESC:Events for Mindful Directory
REFRESH-INTERVAL;VALUE=DURATION:PT1H
X-Robots-Tag:noindex
X-PUBLISHED-TTL:PT1H
BEGIN:VTIMEZONE
TZID:UTC
BEGIN:STANDARD
TZOFFSETFROM:+0000
TZOFFSETTO:+0000
TZNAME:UTC
DTSTART:20250101T000000
END:STANDARD
END:VTIMEZONE
BEGIN:VEVENT
DTSTART;TZID=UTC:20251102T150000
DTEND;TZID=UTC:20251105T100000
DTSTAMP:20260419T205342
CREATED:20240722T171537Z
LAST-MODIFIED:20250116T192521Z
UID:57194-1762095600-1762336800@www.mindfuldirectory.org
SUMMARY:Yoga\, Mindfulness\, Coaching\, and Food As Medicine CME Wellness Retreat
DESCRIPTION:Mindfulness\, Coaching\, Yoga\, and Culinary Medicine Retreat for Women in Healthcare\nSpend 3-5 days on a magical 4-acre “kitchen” farm in Nicasio\, California\, one hour north of San Francisco.\nHeal\, replenish\, connect\, and grow. Fully nourish all your senses. Rest\, rejuvenate and renew. Shift your perspective and leave inspired. \nThis magical retreat is limited to five or six women in healthcare. The intimate size is ideal for personal attention\, fostering connection\, safety\, and relaxation. There is in-person mindful coaching by a wise and experienced physician coach. The mindful yoga is specifically curated for healers to help you breathe\, replenish\, and restore. Sound healing\, forest bathing\, and mindful hikes in spectacular natural settings are all part of the curriculum. You will enjoy delicious\, plant-forward\, farm-to-table meals made with love by a personal chef to nourish your body and soul. You will learn principles of culinary medicine and how to better incorporate healthy and mindful eating into your life and the lives of those you care for and love. \nDr. Jessie Mahoney is fully present throughout the retreat. She facilitates CME-accredited coaching\, leads golden light meditations\, teaches daily mindful and restorative yoga\, and shares her wisdom\, insight\, tools\, and strategies throughout the small moments of the day. Retreats are 3 to 5 nights and all retreats offer up to 12 units of CME \nJessie was a pediatrician and physician leader at The Permanente Medical Group for 18 years. Jessie has been leading physician wellness retreats since 2015. In 2020\, she followed her dream to support her physician colleagues full-time in exactly the ways that would help them the most. Jessie is a graduate of Dartmouth College\, UCSF Medical School\, The Life Coach School\, and Ocean Beach Yoga. She is currently training as a Martha Beck Coach and as a Forest Therapy Guide.
URL:https://www.mindfuldirectory.org/event/yoga-mindfulness-coaching-and-food-as-medicine-wellness-retreat/2025-11-02/
LOCATION:Nicasio Creek Farm\, Nicasio CA\, PO Box 722\, Nicasio\, 94946\, United States
CATEGORIES:Retreat
ATTACH;FMTTYPE=image/jpeg:https://www.mindfuldirectory.org/wp-content/uploads/2024/07/IMG_2967-1-scaled.jpeg
END:VEVENT
BEGIN:VEVENT
DTSTART;TZID=UTC:20251019T150000
DTEND;TZID=UTC:20251022T100000
DTSTAMP:20260419T205342
CREATED:20240722T171537Z
LAST-MODIFIED:20250116T192519Z
UID:57193-1760886000-1761127200@www.mindfuldirectory.org
SUMMARY:Yoga\, Mindfulness\, Coaching\, and Food As Medicine CME Wellness Retreat
DESCRIPTION:Mindfulness\, Coaching\, Yoga\, and Culinary Medicine Retreat for Women in Healthcare\nSpend 3-5 days on a magical 4-acre “kitchen” farm in Nicasio\, California\, one hour north of San Francisco.\nHeal\, replenish\, connect\, and grow. Fully nourish all your senses. Rest\, rejuvenate and renew. Shift your perspective and leave inspired. \nThis magical retreat is limited to five or six women in healthcare. The intimate size is ideal for personal attention\, fostering connection\, safety\, and relaxation. There is in-person mindful coaching by a wise and experienced physician coach. The mindful yoga is specifically curated for healers to help you breathe\, replenish\, and restore. Sound healing\, forest bathing\, and mindful hikes in spectacular natural settings are all part of the curriculum. You will enjoy delicious\, plant-forward\, farm-to-table meals made with love by a personal chef to nourish your body and soul. You will learn principles of culinary medicine and how to better incorporate healthy and mindful eating into your life and the lives of those you care for and love. \nDr. Jessie Mahoney is fully present throughout the retreat. She facilitates CME-accredited coaching\, leads golden light meditations\, teaches daily mindful and restorative yoga\, and shares her wisdom\, insight\, tools\, and strategies throughout the small moments of the day. Retreats are 3 to 5 nights and all retreats offer up to 12 units of CME \nJessie was a pediatrician and physician leader at The Permanente Medical Group for 18 years. Jessie has been leading physician wellness retreats since 2015. In 2020\, she followed her dream to support her physician colleagues full-time in exactly the ways that would help them the most. Jessie is a graduate of Dartmouth College\, UCSF Medical School\, The Life Coach School\, and Ocean Beach Yoga. She is currently training as a Martha Beck Coach and as a Forest Therapy Guide.
URL:https://www.mindfuldirectory.org/event/yoga-mindfulness-coaching-and-food-as-medicine-wellness-retreat/2025-10-19/
LOCATION:Nicasio Creek Farm\, Nicasio CA\, PO Box 722\, Nicasio\, 94946\, United States
CATEGORIES:Retreat
ATTACH;FMTTYPE=image/jpeg:https://www.mindfuldirectory.org/wp-content/uploads/2024/07/IMG_2967-1-scaled.jpeg
END:VEVENT
BEGIN:VEVENT
DTSTART;TZID=UTC:20251006T150000
DTEND;TZID=UTC:20251009T100000
DTSTAMP:20260419T205342
CREATED:20240722T171537Z
LAST-MODIFIED:20250116T192518Z
UID:57192-1759762800-1760004000@www.mindfuldirectory.org
SUMMARY:Yoga\, Mindfulness\, Coaching\, and Food As Medicine CME Wellness Retreat
DESCRIPTION:Mindfulness\, Coaching\, Yoga\, and Culinary Medicine Retreat for Women in Healthcare\nSpend 3-5 days on a magical 4-acre “kitchen” farm in Nicasio\, California\, one hour north of San Francisco.\nHeal\, replenish\, connect\, and grow. Fully nourish all your senses. Rest\, rejuvenate and renew. Shift your perspective and leave inspired. \nThis magical retreat is limited to five or six women in healthcare. The intimate size is ideal for personal attention\, fostering connection\, safety\, and relaxation. There is in-person mindful coaching by a wise and experienced physician coach. The mindful yoga is specifically curated for healers to help you breathe\, replenish\, and restore. Sound healing\, forest bathing\, and mindful hikes in spectacular natural settings are all part of the curriculum. You will enjoy delicious\, plant-forward\, farm-to-table meals made with love by a personal chef to nourish your body and soul. You will learn principles of culinary medicine and how to better incorporate healthy and mindful eating into your life and the lives of those you care for and love. \nDr. Jessie Mahoney is fully present throughout the retreat. She facilitates CME-accredited coaching\, leads golden light meditations\, teaches daily mindful and restorative yoga\, and shares her wisdom\, insight\, tools\, and strategies throughout the small moments of the day. Retreats are 3 to 5 nights and all retreats offer up to 12 units of CME \nJessie was a pediatrician and physician leader at The Permanente Medical Group for 18 years. Jessie has been leading physician wellness retreats since 2015. In 2020\, she followed her dream to support her physician colleagues full-time in exactly the ways that would help them the most. Jessie is a graduate of Dartmouth College\, UCSF Medical School\, The Life Coach School\, and Ocean Beach Yoga. She is currently training as a Martha Beck Coach and as a Forest Therapy Guide.
URL:https://www.mindfuldirectory.org/event/yoga-mindfulness-coaching-and-food-as-medicine-wellness-retreat/2025-10-06/
LOCATION:Nicasio Creek Farm\, Nicasio CA\, PO Box 722\, Nicasio\, 94946\, United States
CATEGORIES:Retreat
ATTACH;FMTTYPE=image/jpeg:https://www.mindfuldirectory.org/wp-content/uploads/2024/07/IMG_2967-1-scaled.jpeg
END:VEVENT
BEGIN:VEVENT
DTSTART;TZID=UTC:20250915T150000
DTEND;TZID=UTC:20250919T100000
DTSTAMP:20260419T205342
CREATED:20240722T171537Z
LAST-MODIFIED:20250116T192517Z
UID:57191-1757948400-1758276000@www.mindfuldirectory.org
SUMMARY:Yoga\, Mindfulness\, Coaching\, and Food As Medicine CME Wellness Retreat
DESCRIPTION:Mindfulness\, Coaching\, Yoga\, and Culinary Medicine Retreat for Women in Healthcare\nSpend 3-5 days on a magical 4-acre “kitchen” farm in Nicasio\, California\, one hour north of San Francisco.\nHeal\, replenish\, connect\, and grow. Fully nourish all your senses. Rest\, rejuvenate and renew. Shift your perspective and leave inspired. \nThis magical retreat is limited to five or six women in healthcare. The intimate size is ideal for personal attention\, fostering connection\, safety\, and relaxation. There is in-person mindful coaching by a wise and experienced physician coach. The mindful yoga is specifically curated for healers to help you breathe\, replenish\, and restore. Sound healing\, forest bathing\, and mindful hikes in spectacular natural settings are all part of the curriculum. You will enjoy delicious\, plant-forward\, farm-to-table meals made with love by a personal chef to nourish your body and soul. You will learn principles of culinary medicine and how to better incorporate healthy and mindful eating into your life and the lives of those you care for and love. \nDr. Jessie Mahoney is fully present throughout the retreat. She facilitates CME-accredited coaching\, leads golden light meditations\, teaches daily mindful and restorative yoga\, and shares her wisdom\, insight\, tools\, and strategies throughout the small moments of the day. Retreats are 3 to 5 nights and all retreats offer up to 12 units of CME \nJessie was a pediatrician and physician leader at The Permanente Medical Group for 18 years. Jessie has been leading physician wellness retreats since 2015. In 2020\, she followed her dream to support her physician colleagues full-time in exactly the ways that would help them the most. Jessie is a graduate of Dartmouth College\, UCSF Medical School\, The Life Coach School\, and Ocean Beach Yoga. She is currently training as a Martha Beck Coach and as a Forest Therapy Guide.
URL:https://www.mindfuldirectory.org/event/yoga-mindfulness-coaching-and-food-as-medicine-wellness-retreat/2025-09-15/
LOCATION:Nicasio Creek Farm\, Nicasio CA\, PO Box 722\, Nicasio\, 94946\, United States
CATEGORIES:Retreat
ATTACH;FMTTYPE=image/jpeg:https://www.mindfuldirectory.org/wp-content/uploads/2024/07/IMG_2967-1-scaled.jpeg
END:VEVENT
BEGIN:VEVENT
DTSTART;TZID=UTC:20250512T150000
DTEND;TZID=UTC:20250515T100000
DTSTAMP:20260419T205342
CREATED:20240722T171537Z
LAST-MODIFIED:20250116T192515Z
UID:57189-1747062000-1747303200@www.mindfuldirectory.org
SUMMARY:Yoga\, Mindfulness\, Coaching\, and Food As Medicine CME Wellness Retreat
DESCRIPTION:Mindfulness\, Coaching\, Yoga\, and Culinary Medicine Retreat for Women in Healthcare\nSpend 3-5 days on a magical 4-acre “kitchen” farm in Nicasio\, California\, one hour north of San Francisco.\nHeal\, replenish\, connect\, and grow. Fully nourish all your senses. Rest\, rejuvenate and renew. Shift your perspective and leave inspired. \nThis magical retreat is limited to five or six women in healthcare. The intimate size is ideal for personal attention\, fostering connection\, safety\, and relaxation. There is in-person mindful coaching by a wise and experienced physician coach. The mindful yoga is specifically curated for healers to help you breathe\, replenish\, and restore. Sound healing\, forest bathing\, and mindful hikes in spectacular natural settings are all part of the curriculum. You will enjoy delicious\, plant-forward\, farm-to-table meals made with love by a personal chef to nourish your body and soul. You will learn principles of culinary medicine and how to better incorporate healthy and mindful eating into your life and the lives of those you care for and love. \nDr. Jessie Mahoney is fully present throughout the retreat. She facilitates CME-accredited coaching\, leads golden light meditations\, teaches daily mindful and restorative yoga\, and shares her wisdom\, insight\, tools\, and strategies throughout the small moments of the day. Retreats are 3 to 5 nights and all retreats offer up to 12 units of CME \nJessie was a pediatrician and physician leader at The Permanente Medical Group for 18 years. Jessie has been leading physician wellness retreats since 2015. In 2020\, she followed her dream to support her physician colleagues full-time in exactly the ways that would help them the most. Jessie is a graduate of Dartmouth College\, UCSF Medical School\, The Life Coach School\, and Ocean Beach Yoga. She is currently training as a Martha Beck Coach and as a Forest Therapy Guide.
URL:https://www.mindfuldirectory.org/event/yoga-mindfulness-coaching-and-food-as-medicine-wellness-retreat/2025-05-12/
LOCATION:Nicasio Creek Farm\, Nicasio CA\, PO Box 722\, Nicasio\, 94946\, United States
CATEGORIES:Retreat
ATTACH;FMTTYPE=image/jpeg:https://www.mindfuldirectory.org/wp-content/uploads/2024/07/IMG_2967-1-scaled.jpeg
END:VEVENT
BEGIN:VEVENT
DTSTART;VALUE=DATE:20250421
DTEND;VALUE=DATE:20250427
DTSTAMP:20260419T205342
CREATED:20240722T171537Z
LAST-MODIFIED:20250116T192514Z
UID:55432-1745197200-1745629199@www.mindfuldirectory.org
SUMMARY:Yoga\, Mindfulness\, Coaching\, and Food As Medicine CME Wellness Retreat
DESCRIPTION:Mindfulness\, Coaching\, Yoga\, and Culinary Medicine Retreat for Women in Healthcare\nSpend 3-5 days on a magical 4-acre “kitchen” farm in Nicasio\, California\, one hour north of San Francisco.\nHeal\, replenish\, connect\, and grow. Fully nourish all your senses. Rest\, rejuvenate and renew. Shift your perspective and leave inspired. \nThis magical retreat is limited to five or six women in healthcare. The intimate size is ideal for personal attention\, fostering connection\, safety\, and relaxation. There is in-person mindful coaching by a wise and experienced physician coach. The mindful yoga is specifically curated for healers to help you breathe\, replenish\, and restore. Sound healing\, forest bathing\, and mindful hikes in spectacular natural settings are all part of the curriculum. You will enjoy delicious\, plant-forward\, farm-to-table meals made with love by a personal chef to nourish your body and soul. You will learn principles of culinary medicine and how to better incorporate healthy and mindful eating into your life and the lives of those you care for and love. \nDr. Jessie Mahoney is fully present throughout the retreat. She facilitates CME-accredited coaching\, leads golden light meditations\, teaches daily mindful and restorative yoga\, and shares her wisdom\, insight\, tools\, and strategies throughout the small moments of the day. Retreats are 3 to 5 nights and all retreats offer up to 12 units of CME \nJessie was a pediatrician and physician leader at The Permanente Medical Group for 18 years. Jessie has been leading physician wellness retreats since 2015. In 2020\, she followed her dream to support her physician colleagues full-time in exactly the ways that would help them the most. Jessie is a graduate of Dartmouth College\, UCSF Medical School\, The Life Coach School\, and Ocean Beach Yoga. She is currently training as a Martha Beck Coach and as a Forest Therapy Guide.
URL:https://www.mindfuldirectory.org/event/yoga-mindfulness-coaching-and-food-as-medicine-wellness-retreat/2025-04-21/
LOCATION:Nicasio Creek Farm\, Nicasio CA\, PO Box 722\, Nicasio\, 94946\, United States
CATEGORIES:Retreat
ATTACH;FMTTYPE=image/jpeg:https://www.mindfuldirectory.org/wp-content/uploads/2024/07/IMG_2967-1-scaled.jpeg
END:VEVENT
END:VCALENDAR