BEGIN:VCALENDAR
VERSION:2.0
PRODID:-//Mindful Directory - ECPv6.9.1//NONSGML v1.0//EN
CALSCALE:GREGORIAN
METHOD:PUBLISH
X-WR-CALNAME:Mindful Directory
X-ORIGINAL-URL:https://www.mindfuldirectory.org
X-WR-CALDESC:Events for Mindful Directory
REFRESH-INTERVAL;VALUE=DURATION:PT1H
X-Robots-Tag:noindex
X-PUBLISHED-TTL:PT1H
BEGIN:VTIMEZONE
TZID:America/Halifax
BEGIN:DAYLIGHT
TZOFFSETFROM:-0400
TZOFFSETTO:-0300
TZNAME:ADT
DTSTART:20240310T060000
END:DAYLIGHT
BEGIN:STANDARD
TZOFFSETFROM:-0300
TZOFFSETTO:-0400
TZNAME:AST
DTSTART:20241103T050000
END:STANDARD
BEGIN:DAYLIGHT
TZOFFSETFROM:-0400
TZOFFSETTO:-0300
TZNAME:ADT
DTSTART:20250309T060000
END:DAYLIGHT
BEGIN:STANDARD
TZOFFSETFROM:-0300
TZOFFSETTO:-0400
TZNAME:AST
DTSTART:20251102T050000
END:STANDARD
END:VTIMEZONE
BEGIN:VEVENT
DTSTART;TZID=America/Halifax:20250810T184500
DTEND;TZID=America/Halifax:20250810T204500
DTSTAMP:20260419T123331
CREATED:20240717T094923Z
LAST-MODIFIED:20240717T094923Z
UID:56229-1754851500-1754858700@www.mindfuldirectory.org
SUMMARY:NEW: Mindful Online Grad Community (MGOC)
DESCRIPTION:The Mindfulness Grad Online Community (MGOC) will gather monthly under the guidance of MBSR Teacher and Teacher Trainer Rebecca Eldridge\, for continued learning\, practice\, and community. During each session\, we will explore various mindfulness topics through teachings\, practice\, silent reflection\, and speaking & listening. Join as many or as few sessions as you like. Can’t make it? We’ll record the session for you.
URL:https://www.mindfuldirectory.org/event/new-mindful-online-grad-community-mgoc/2025-08-10/
CATEGORIES:Beyond Beginners
ATTACH;FMTTYPE=image/jpeg:https://www.mindfuldirectory.org/wp-content/uploads/2024/07/HandsInCircle.jpg
END:VEVENT
BEGIN:VEVENT
DTSTART;TZID=America/Halifax:20250713T184500
DTEND;TZID=America/Halifax:20250713T204500
DTSTAMP:20260419T123331
CREATED:20240717T094923Z
LAST-MODIFIED:20240717T094923Z
UID:55815-1752432300-1752439500@www.mindfuldirectory.org
SUMMARY:NEW: Mindful Online Grad Community (MGOC)
DESCRIPTION:The Mindfulness Grad Online Community (MGOC) will gather monthly under the guidance of MBSR Teacher and Teacher Trainer Rebecca Eldridge\, for continued learning\, practice\, and community. During each session\, we will explore various mindfulness topics through teachings\, practice\, silent reflection\, and speaking & listening. Join as many or as few sessions as you like. Can’t make it? We’ll record the session for you.
URL:https://www.mindfuldirectory.org/event/new-mindful-online-grad-community-mgoc/2025-07-13/
CATEGORIES:Beyond Beginners
ATTACH;FMTTYPE=image/jpeg:https://www.mindfuldirectory.org/wp-content/uploads/2024/07/ComputerDog.jpg
END:VEVENT
BEGIN:VEVENT
DTSTART;TZID=America/Halifax:20250608T184500
DTEND;TZID=America/Halifax:20250608T204500
DTSTAMP:20260419T123331
CREATED:20240717T094923Z
LAST-MODIFIED:20240927T161318Z
UID:55814-1749408300-1749415500@www.mindfuldirectory.org
SUMMARY:NEW: Mindful Online Grad Community (MGOC)
DESCRIPTION:The Mindfulness Grad Online Community (MGOC) will gather monthly under the guidance of MBSR Teacher and Teacher Trainer Rebecca Eldridge\, for continued learning\, practice\, and community. During each session\, we will explore various mindfulness topics through teachings\, practice\, silent reflection\, and speaking & listening. Join as many or as few sessions as you like. Can’t make it? We’ll record the session for you.
URL:https://www.mindfuldirectory.org/event/new-mindful-online-grad-community-mgoc/2025-06-08/
CATEGORIES:Beyond Beginners
ATTACH;FMTTYPE=image/jpeg:https://www.mindfuldirectory.org/wp-content/uploads/2024/07/HandsInCircle.jpg
END:VEVENT
BEGIN:VEVENT
DTSTART;TZID=America/Halifax:20250511T184500
DTEND;TZID=America/Halifax:20250511T204500
DTSTAMP:20260419T123331
CREATED:20240717T094923Z
LAST-MODIFIED:20240927T161316Z
UID:55813-1746989100-1746996300@www.mindfuldirectory.org
SUMMARY:NEW: Mindful Online Grad Community (MGOC)
DESCRIPTION:The Mindfulness Grad Online Community (MGOC) will gather monthly under the guidance of MBSR Teacher and Teacher Trainer Rebecca Eldridge\, for continued learning\, practice\, and community. During each session\, we will explore various mindfulness topics through teachings\, practice\, silent reflection\, and speaking & listening. Join as many or as few sessions as you like. Can’t make it? We’ll record the session for you.
URL:https://www.mindfuldirectory.org/event/new-mindful-online-grad-community-mgoc/2025-05-11/
CATEGORIES:Beyond Beginners
ATTACH;FMTTYPE=image/jpeg:https://www.mindfuldirectory.org/wp-content/uploads/2024/07/HandsInCircle.jpg
END:VEVENT
BEGIN:VEVENT
DTSTART;TZID=America/Halifax:20240908T184500
DTEND;TZID=America/Halifax:20240908T204500
DTSTAMP:20260419T123331
CREATED:20240717T094923Z
LAST-MODIFIED:20240927T161253Z
UID:55171-1725821100-1725828300@www.mindfuldirectory.org
SUMMARY:NEW: Mindful Online Grad Community (MGOC)
DESCRIPTION:The Mindfulness Grad Online Community (MGOC) will gather monthly under the guidance of MBSR Teacher and Teacher Trainer Rebecca Eldridge\, for continued learning\, practice\, and community. During each session\, we will explore various mindfulness topics through teachings\, practice\, silent reflection\, and speaking & listening. Join as many or as few sessions as you like. Can’t make it? We’ll record the session for you.
URL:https://www.mindfuldirectory.org/event/new-mindful-online-grad-community-mgoc/2024-09-08/
CATEGORIES:Beyond Beginners
ATTACH;FMTTYPE=image/jpeg:https://www.mindfuldirectory.org/wp-content/uploads/2024/07/HandsInCircle.jpg
END:VEVENT
END:VCALENDAR