BEGIN:VCALENDAR
VERSION:2.0
PRODID:-//Mindful Directory - ECPv6.9.1//NONSGML v1.0//EN
CALSCALE:GREGORIAN
METHOD:PUBLISH
X-WR-CALNAME:Mindful Directory
X-ORIGINAL-URL:https://www.mindfuldirectory.org
X-WR-CALDESC:Events for Mindful Directory
REFRESH-INTERVAL;VALUE=DURATION:PT1H
X-Robots-Tag:noindex
X-PUBLISHED-TTL:PT1H
BEGIN:VTIMEZONE
TZID:UTC
BEGIN:STANDARD
TZOFFSETFROM:+0000
TZOFFSETTO:+0000
TZNAME:UTC
DTSTART:20260101T000000
END:STANDARD
END:VTIMEZONE
BEGIN:VEVENT
DTSTART;TZID=UTC:20260426T080000
DTEND;TZID=UTC:20260426T170000
DTSTAMP:20260423T055637
CREATED:20260422T134051Z
LAST-MODIFIED:20260422T134051Z
UID:60356-1777190400-1777222800@www.mindfuldirectory.org
SUMMARY:30-Day Workplace Reset Challenge
DESCRIPTION:Clear Focus. Lower Stress. Better Work. \nA science-informed daily challenge that helps busy professionals reduce stress\, increase productivity\, improve motivation\, and feel better at work in just 5–10 minutes a day. \n✅ Instant Download\n✅ Easy Daily Actions\n✅ Real Results \nDesigned for Real Life \nThis program was created for busy professionals who don’t have extra time\, extra energy\, or patience for complicated wellness routines. \n– No meditation retreat required.\n– No hours of journaling.\n– No unrealistic expectations. \nJust practical daily actions that fit real schedules. \nYour Reset Starts Today\nGet the complete 30-Day Workplace Reset instantly. \n✔ Immediate Download\n✔ Reuse Anytime\n✔ Printable + Digital Friendly \nLow Effort. High Performance Upside. \nYou’re only 5–10 minutes a day away from feeling noticeably better at work.\nIf stress\, distraction\, or burnout have been costing you energy and performance… this is a simple place to start. \nYour Complete Reset Toolkit\nIncluded with Purchase: \n✔ 30-Day Daily Action Calendar\nStay consistent with one simple action each day \n✔ 4 Weekly Companion Guides\nDetailed explanations for each week’s focus area \n✔ Start + Finish Progress Scorecards\nMeasure your improvement from Day 1 to Day 30 \n✔ Reflection Notes Page\nCapture wins\, insights\, and habits worth keeping \n✔ Instant PDF Download\nStart immediately on any device or print at home
URL:https://www.mindfuldirectory.org/event/30-day-workplace-reset-challenge/2026-04-26/
CATEGORIES:Suitable for all
ATTACH;FMTTYPE=image/png:https://www.mindfuldirectory.org/wp-content/uploads/2026/04/Title-cover-1-scaled.png
END:VEVENT
BEGIN:VEVENT
DTSTART;TZID=UTC:20260503T080000
DTEND;TZID=UTC:20260503T170000
DTSTAMP:20260423T055637
CREATED:20260422T134052Z
LAST-MODIFIED:20260422T134052Z
UID:60357-1777795200-1777827600@www.mindfuldirectory.org
SUMMARY:30-Day Workplace Reset Challenge
DESCRIPTION:Clear Focus. Lower Stress. Better Work. \nA science-informed daily challenge that helps busy professionals reduce stress\, increase productivity\, improve motivation\, and feel better at work in just 5–10 minutes a day. \n✅ Instant Download\n✅ Easy Daily Actions\n✅ Real Results \nDesigned for Real Life \nThis program was created for busy professionals who don’t have extra time\, extra energy\, or patience for complicated wellness routines. \n– No meditation retreat required.\n– No hours of journaling.\n– No unrealistic expectations. \nJust practical daily actions that fit real schedules. \nYour Reset Starts Today\nGet the complete 30-Day Workplace Reset instantly. \n✔ Immediate Download\n✔ Reuse Anytime\n✔ Printable + Digital Friendly \nLow Effort. High Performance Upside. \nYou’re only 5–10 minutes a day away from feeling noticeably better at work.\nIf stress\, distraction\, or burnout have been costing you energy and performance… this is a simple place to start. \nYour Complete Reset Toolkit\nIncluded with Purchase: \n✔ 30-Day Daily Action Calendar\nStay consistent with one simple action each day \n✔ 4 Weekly Companion Guides\nDetailed explanations for each week’s focus area \n✔ Start + Finish Progress Scorecards\nMeasure your improvement from Day 1 to Day 30 \n✔ Reflection Notes Page\nCapture wins\, insights\, and habits worth keeping \n✔ Instant PDF Download\nStart immediately on any device or print at home
URL:https://www.mindfuldirectory.org/event/30-day-workplace-reset-challenge/2026-05-03/
CATEGORIES:Suitable for all
ATTACH;FMTTYPE=image/png:https://www.mindfuldirectory.org/wp-content/uploads/2026/04/Title-cover-1-scaled.png
END:VEVENT
BEGIN:VEVENT
DTSTART;TZID=UTC:20260510T080000
DTEND;TZID=UTC:20260510T170000
DTSTAMP:20260423T055637
CREATED:20260422T134053Z
LAST-MODIFIED:20260422T134053Z
UID:60358-1778400000-1778432400@www.mindfuldirectory.org
SUMMARY:30-Day Workplace Reset Challenge
DESCRIPTION:Clear Focus. Lower Stress. Better Work. \nA science-informed daily challenge that helps busy professionals reduce stress\, increase productivity\, improve motivation\, and feel better at work in just 5–10 minutes a day. \n✅ Instant Download\n✅ Easy Daily Actions\n✅ Real Results \nDesigned for Real Life \nThis program was created for busy professionals who don’t have extra time\, extra energy\, or patience for complicated wellness routines. \n– No meditation retreat required.\n– No hours of journaling.\n– No unrealistic expectations. \nJust practical daily actions that fit real schedules. \nYour Reset Starts Today\nGet the complete 30-Day Workplace Reset instantly. \n✔ Immediate Download\n✔ Reuse Anytime\n✔ Printable + Digital Friendly \nLow Effort. High Performance Upside. \nYou’re only 5–10 minutes a day away from feeling noticeably better at work.\nIf stress\, distraction\, or burnout have been costing you energy and performance… this is a simple place to start. \nYour Complete Reset Toolkit\nIncluded with Purchase: \n✔ 30-Day Daily Action Calendar\nStay consistent with one simple action each day \n✔ 4 Weekly Companion Guides\nDetailed explanations for each week’s focus area \n✔ Start + Finish Progress Scorecards\nMeasure your improvement from Day 1 to Day 30 \n✔ Reflection Notes Page\nCapture wins\, insights\, and habits worth keeping \n✔ Instant PDF Download\nStart immediately on any device or print at home
URL:https://www.mindfuldirectory.org/event/30-day-workplace-reset-challenge/2026-05-10/
CATEGORIES:Suitable for all
ATTACH;FMTTYPE=image/png:https://www.mindfuldirectory.org/wp-content/uploads/2026/04/Title-cover-1-scaled.png
END:VEVENT
BEGIN:VEVENT
DTSTART;TZID=UTC:20260517T080000
DTEND;TZID=UTC:20260517T170000
DTSTAMP:20260423T055637
CREATED:20260422T134054Z
LAST-MODIFIED:20260422T134054Z
UID:60359-1779004800-1779037200@www.mindfuldirectory.org
SUMMARY:30-Day Workplace Reset Challenge
DESCRIPTION:Clear Focus. Lower Stress. Better Work. \nA science-informed daily challenge that helps busy professionals reduce stress\, increase productivity\, improve motivation\, and feel better at work in just 5–10 minutes a day. \n✅ Instant Download\n✅ Easy Daily Actions\n✅ Real Results \nDesigned for Real Life \nThis program was created for busy professionals who don’t have extra time\, extra energy\, or patience for complicated wellness routines. \n– No meditation retreat required.\n– No hours of journaling.\n– No unrealistic expectations. \nJust practical daily actions that fit real schedules. \nYour Reset Starts Today\nGet the complete 30-Day Workplace Reset instantly. \n✔ Immediate Download\n✔ Reuse Anytime\n✔ Printable + Digital Friendly \nLow Effort. High Performance Upside. \nYou’re only 5–10 minutes a day away from feeling noticeably better at work.\nIf stress\, distraction\, or burnout have been costing you energy and performance… this is a simple place to start. \nYour Complete Reset Toolkit\nIncluded with Purchase: \n✔ 30-Day Daily Action Calendar\nStay consistent with one simple action each day \n✔ 4 Weekly Companion Guides\nDetailed explanations for each week’s focus area \n✔ Start + Finish Progress Scorecards\nMeasure your improvement from Day 1 to Day 30 \n✔ Reflection Notes Page\nCapture wins\, insights\, and habits worth keeping \n✔ Instant PDF Download\nStart immediately on any device or print at home
URL:https://www.mindfuldirectory.org/event/30-day-workplace-reset-challenge/2026-05-17/
CATEGORIES:Suitable for all
ATTACH;FMTTYPE=image/png:https://www.mindfuldirectory.org/wp-content/uploads/2026/04/Title-cover-1-scaled.png
END:VEVENT
BEGIN:VEVENT
DTSTART;TZID=UTC:20260524T080000
DTEND;TZID=UTC:20260524T170000
DTSTAMP:20260423T055637
CREATED:20260422T134055Z
LAST-MODIFIED:20260422T134055Z
UID:60360-1779609600-1779642000@www.mindfuldirectory.org
SUMMARY:30-Day Workplace Reset Challenge
DESCRIPTION:Clear Focus. Lower Stress. Better Work. \nA science-informed daily challenge that helps busy professionals reduce stress\, increase productivity\, improve motivation\, and feel better at work in just 5–10 minutes a day. \n✅ Instant Download\n✅ Easy Daily Actions\n✅ Real Results \nDesigned for Real Life \nThis program was created for busy professionals who don’t have extra time\, extra energy\, or patience for complicated wellness routines. \n– No meditation retreat required.\n– No hours of journaling.\n– No unrealistic expectations. \nJust practical daily actions that fit real schedules. \nYour Reset Starts Today\nGet the complete 30-Day Workplace Reset instantly. \n✔ Immediate Download\n✔ Reuse Anytime\n✔ Printable + Digital Friendly \nLow Effort. High Performance Upside. \nYou’re only 5–10 minutes a day away from feeling noticeably better at work.\nIf stress\, distraction\, or burnout have been costing you energy and performance… this is a simple place to start. \nYour Complete Reset Toolkit\nIncluded with Purchase: \n✔ 30-Day Daily Action Calendar\nStay consistent with one simple action each day \n✔ 4 Weekly Companion Guides\nDetailed explanations for each week’s focus area \n✔ Start + Finish Progress Scorecards\nMeasure your improvement from Day 1 to Day 30 \n✔ Reflection Notes Page\nCapture wins\, insights\, and habits worth keeping \n✔ Instant PDF Download\nStart immediately on any device or print at home
URL:https://www.mindfuldirectory.org/event/30-day-workplace-reset-challenge/2026-05-24/
CATEGORIES:Suitable for all
ATTACH;FMTTYPE=image/png:https://www.mindfuldirectory.org/wp-content/uploads/2026/04/Title-cover-1-scaled.png
END:VEVENT
BEGIN:VEVENT
DTSTART;TZID=UTC:20260531T080000
DTEND;TZID=UTC:20260531T170000
DTSTAMP:20260423T055637
CREATED:20260422T134056Z
LAST-MODIFIED:20260422T134056Z
UID:60361-1780214400-1780246800@www.mindfuldirectory.org
SUMMARY:30-Day Workplace Reset Challenge
DESCRIPTION:Clear Focus. Lower Stress. Better Work. \nA science-informed daily challenge that helps busy professionals reduce stress\, increase productivity\, improve motivation\, and feel better at work in just 5–10 minutes a day. \n✅ Instant Download\n✅ Easy Daily Actions\n✅ Real Results \nDesigned for Real Life \nThis program was created for busy professionals who don’t have extra time\, extra energy\, or patience for complicated wellness routines. \n– No meditation retreat required.\n– No hours of journaling.\n– No unrealistic expectations. \nJust practical daily actions that fit real schedules. \nYour Reset Starts Today\nGet the complete 30-Day Workplace Reset instantly. \n✔ Immediate Download\n✔ Reuse Anytime\n✔ Printable + Digital Friendly \nLow Effort. High Performance Upside. \nYou’re only 5–10 minutes a day away from feeling noticeably better at work.\nIf stress\, distraction\, or burnout have been costing you energy and performance… this is a simple place to start. \nYour Complete Reset Toolkit\nIncluded with Purchase: \n✔ 30-Day Daily Action Calendar\nStay consistent with one simple action each day \n✔ 4 Weekly Companion Guides\nDetailed explanations for each week’s focus area \n✔ Start + Finish Progress Scorecards\nMeasure your improvement from Day 1 to Day 30 \n✔ Reflection Notes Page\nCapture wins\, insights\, and habits worth keeping \n✔ Instant PDF Download\nStart immediately on any device or print at home
URL:https://www.mindfuldirectory.org/event/30-day-workplace-reset-challenge/2026-05-31/
CATEGORIES:Suitable for all
ATTACH;FMTTYPE=image/png:https://www.mindfuldirectory.org/wp-content/uploads/2026/04/Title-cover-1-scaled.png
END:VEVENT
BEGIN:VEVENT
DTSTART;TZID=UTC:20260607T080000
DTEND;TZID=UTC:20260607T170000
DTSTAMP:20260423T055637
CREATED:20260422T134057Z
LAST-MODIFIED:20260422T134057Z
UID:60362-1780819200-1780851600@www.mindfuldirectory.org
SUMMARY:30-Day Workplace Reset Challenge
DESCRIPTION:Clear Focus. Lower Stress. Better Work. \nA science-informed daily challenge that helps busy professionals reduce stress\, increase productivity\, improve motivation\, and feel better at work in just 5–10 minutes a day. \n✅ Instant Download\n✅ Easy Daily Actions\n✅ Real Results \nDesigned for Real Life \nThis program was created for busy professionals who don’t have extra time\, extra energy\, or patience for complicated wellness routines. \n– No meditation retreat required.\n– No hours of journaling.\n– No unrealistic expectations. \nJust practical daily actions that fit real schedules. \nYour Reset Starts Today\nGet the complete 30-Day Workplace Reset instantly. \n✔ Immediate Download\n✔ Reuse Anytime\n✔ Printable + Digital Friendly \nLow Effort. High Performance Upside. \nYou’re only 5–10 minutes a day away from feeling noticeably better at work.\nIf stress\, distraction\, or burnout have been costing you energy and performance… this is a simple place to start. \nYour Complete Reset Toolkit\nIncluded with Purchase: \n✔ 30-Day Daily Action Calendar\nStay consistent with one simple action each day \n✔ 4 Weekly Companion Guides\nDetailed explanations for each week’s focus area \n✔ Start + Finish Progress Scorecards\nMeasure your improvement from Day 1 to Day 30 \n✔ Reflection Notes Page\nCapture wins\, insights\, and habits worth keeping \n✔ Instant PDF Download\nStart immediately on any device or print at home
URL:https://www.mindfuldirectory.org/event/30-day-workplace-reset-challenge/2026-06-07/
CATEGORIES:Suitable for all
ATTACH;FMTTYPE=image/png:https://www.mindfuldirectory.org/wp-content/uploads/2026/04/Title-cover-1-scaled.png
END:VEVENT
BEGIN:VEVENT
DTSTART;TZID=UTC:20260614T080000
DTEND;TZID=UTC:20260614T170000
DTSTAMP:20260423T055637
CREATED:20260422T134059Z
LAST-MODIFIED:20260422T134059Z
UID:60363-1781424000-1781456400@www.mindfuldirectory.org
SUMMARY:30-Day Workplace Reset Challenge
DESCRIPTION:Clear Focus. Lower Stress. Better Work. \nA science-informed daily challenge that helps busy professionals reduce stress\, increase productivity\, improve motivation\, and feel better at work in just 5–10 minutes a day. \n✅ Instant Download\n✅ Easy Daily Actions\n✅ Real Results \nDesigned for Real Life \nThis program was created for busy professionals who don’t have extra time\, extra energy\, or patience for complicated wellness routines. \n– No meditation retreat required.\n– No hours of journaling.\n– No unrealistic expectations. \nJust practical daily actions that fit real schedules. \nYour Reset Starts Today\nGet the complete 30-Day Workplace Reset instantly. \n✔ Immediate Download\n✔ Reuse Anytime\n✔ Printable + Digital Friendly \nLow Effort. High Performance Upside. \nYou’re only 5–10 minutes a day away from feeling noticeably better at work.\nIf stress\, distraction\, or burnout have been costing you energy and performance… this is a simple place to start. \nYour Complete Reset Toolkit\nIncluded with Purchase: \n✔ 30-Day Daily Action Calendar\nStay consistent with one simple action each day \n✔ 4 Weekly Companion Guides\nDetailed explanations for each week’s focus area \n✔ Start + Finish Progress Scorecards\nMeasure your improvement from Day 1 to Day 30 \n✔ Reflection Notes Page\nCapture wins\, insights\, and habits worth keeping \n✔ Instant PDF Download\nStart immediately on any device or print at home
URL:https://www.mindfuldirectory.org/event/30-day-workplace-reset-challenge/2026-06-14/
CATEGORIES:Suitable for all
ATTACH;FMTTYPE=image/png:https://www.mindfuldirectory.org/wp-content/uploads/2026/04/Title-cover-1-scaled.png
END:VEVENT
BEGIN:VEVENT
DTSTART;TZID=UTC:20260621T080000
DTEND;TZID=UTC:20260621T170000
DTSTAMP:20260423T055637
CREATED:20260422T134059Z
LAST-MODIFIED:20260422T134059Z
UID:60364-1782028800-1782061200@www.mindfuldirectory.org
SUMMARY:30-Day Workplace Reset Challenge
DESCRIPTION:Clear Focus. Lower Stress. Better Work. \nA science-informed daily challenge that helps busy professionals reduce stress\, increase productivity\, improve motivation\, and feel better at work in just 5–10 minutes a day. \n✅ Instant Download\n✅ Easy Daily Actions\n✅ Real Results \nDesigned for Real Life \nThis program was created for busy professionals who don’t have extra time\, extra energy\, or patience for complicated wellness routines. \n– No meditation retreat required.\n– No hours of journaling.\n– No unrealistic expectations. \nJust practical daily actions that fit real schedules. \nYour Reset Starts Today\nGet the complete 30-Day Workplace Reset instantly. \n✔ Immediate Download\n✔ Reuse Anytime\n✔ Printable + Digital Friendly \nLow Effort. High Performance Upside. \nYou’re only 5–10 minutes a day away from feeling noticeably better at work.\nIf stress\, distraction\, or burnout have been costing you energy and performance… this is a simple place to start. \nYour Complete Reset Toolkit\nIncluded with Purchase: \n✔ 30-Day Daily Action Calendar\nStay consistent with one simple action each day \n✔ 4 Weekly Companion Guides\nDetailed explanations for each week’s focus area \n✔ Start + Finish Progress Scorecards\nMeasure your improvement from Day 1 to Day 30 \n✔ Reflection Notes Page\nCapture wins\, insights\, and habits worth keeping \n✔ Instant PDF Download\nStart immediately on any device or print at home
URL:https://www.mindfuldirectory.org/event/30-day-workplace-reset-challenge/2026-06-21/
CATEGORIES:Suitable for all
ATTACH;FMTTYPE=image/png:https://www.mindfuldirectory.org/wp-content/uploads/2026/04/Title-cover-1-scaled.png
END:VEVENT
END:VCALENDAR