BEGIN:VCALENDAR
VERSION:2.0
PRODID:-//Mindful Directory - ECPv6.9.1//NONSGML v1.0//EN
CALSCALE:GREGORIAN
METHOD:PUBLISH
X-WR-CALNAME:Mindful Directory
X-ORIGINAL-URL:https://www.mindfuldirectory.org
X-WR-CALDESC:Events for Mindful Directory
REFRESH-INTERVAL;VALUE=DURATION:PT1H
X-Robots-Tag:noindex
X-PUBLISHED-TTL:PT1H
BEGIN:VTIMEZONE
TZID:America/Los_Angeles
BEGIN:DAYLIGHT
TZOFFSETFROM:-0800
TZOFFSETTO:-0700
TZNAME:PDT
DTSTART:20250309T100000
END:DAYLIGHT
BEGIN:STANDARD
TZOFFSETFROM:-0700
TZOFFSETTO:-0800
TZNAME:PST
DTSTART:20251102T090000
END:STANDARD
END:VTIMEZONE
BEGIN:VEVENT
DTSTART;TZID=America/Los_Angeles:20250429T100000
DTEND;TZID=America/Los_Angeles:20250701T103000
DTSTAMP:20260419T172125
CREATED:20230228T152336Z
LAST-MODIFIED:20230228T152336Z
UID:56864-1745920800-1751365800@www.mindfuldirectory.org
SUMMARY:10-Week Certificate Training on the Mindfulness-Based Stress Reduction for Teens (MBSR-T) Program\, for Professionals 30 CE/CME Credits Available
DESCRIPTION:30 CE/CME credits available for this intensive training for professionals in the Mindfulness-Based Stress Reduction for Teens (MBSR-T) Program. Get certified to use this program with youth/teens. This program is designed for mental health professionals\, teachers/educators\, for personal or professional development\, and for those who teach mindfulness\, health and well-being\, & emotional development. \nMBSR-T is an adaptation of the Mindfulness-Based Stress Reduction (MBSR) program for adults by Jon Kabat-Zinn. Stressed Teens teaches mindfulness-based learning for teens in educational\, clinical\, and community settings. Stressed Teens can improve a teen’s functioning and quality of living socially\, physically\, and psychologically.
URL:https://www.mindfuldirectory.org/event/10-week-certificate-training-on-the-mindfulness-based-stress-reduction-for-teens-mbsr-t-program-for-professionals-30-ce-cme-credits-available-3/2025-04-29/
LOCATION:Stressed Teens Online
CATEGORIES:Professional Development
ATTACH;FMTTYPE=image/png:https://www.mindfuldirectory.org/wp-content/uploads/2023/02/mindfulness-directory-mbsrt-10-week-certificate-program-for-professionals-square-01.png
END:VEVENT
BEGIN:VEVENT
DTSTART;TZID=America/Los_Angeles:20250422T100000
DTEND;TZID=America/Los_Angeles:20250624T103000
DTSTAMP:20260419T172125
CREATED:20230228T152336Z
LAST-MODIFIED:20230228T152336Z
UID:56863-1745316000-1750761000@www.mindfuldirectory.org
SUMMARY:10-Week Certificate Training on the Mindfulness-Based Stress Reduction for Teens (MBSR-T) Program\, for Professionals 30 CE/CME Credits Available
DESCRIPTION:30 CE/CME credits available for this intensive training for professionals in the Mindfulness-Based Stress Reduction for Teens (MBSR-T) Program. Get certified to use this program with youth/teens. This program is designed for mental health professionals\, teachers/educators\, for personal or professional development\, and for those who teach mindfulness\, health and well-being\, & emotional development. \nMBSR-T is an adaptation of the Mindfulness-Based Stress Reduction (MBSR) program for adults by Jon Kabat-Zinn. Stressed Teens teaches mindfulness-based learning for teens in educational\, clinical\, and community settings. Stressed Teens can improve a teen’s functioning and quality of living socially\, physically\, and psychologically.
URL:https://www.mindfuldirectory.org/event/10-week-certificate-training-on-the-mindfulness-based-stress-reduction-for-teens-mbsr-t-program-for-professionals-30-ce-cme-credits-available-3/2025-04-22/
LOCATION:Stressed Teens Online
CATEGORIES:Professional Development
ATTACH;FMTTYPE=image/png:https://www.mindfuldirectory.org/wp-content/uploads/2023/02/mindfulness-directory-mbsrt-10-week-certificate-program-for-professionals-square-01.png
END:VEVENT
BEGIN:VEVENT
DTSTART;TZID=America/Los_Angeles:20250225T100000
DTEND;TZID=America/Los_Angeles:20250429T113000
DTSTAMP:20260419T172125
CREATED:20230228T152336Z
LAST-MODIFIED:20241128T184129Z
UID:46386-1740477600-1745926200@www.mindfuldirectory.org
SUMMARY:10-Week Certificate Training on the Mindfulness-Based Stress Reduction for Teens (MBSR-T) Program\, for Professionals 30 CE/CME Credits Available
DESCRIPTION:30 CE/CME credits available for this intensive training for professionals in the Mindfulness-Based Stress Reduction for Teens (MBSR-T) Program. Get certified to use this program with youth/teens. This program is designed for mental health professionals\, teachers/educators\, for personal or professional development\, and for those who teach mindfulness\, health and well-being\, & emotional development. \nMBSR-T is an adaptation of the Mindfulness-Based Stress Reduction (MBSR) program for adults by Jon Kabat-Zinn. Stressed Teens teaches mindfulness-based learning for teens in educational\, clinical\, and community settings. Stressed Teens can improve a teen’s functioning and quality of living socially\, physically\, and psychologically.
URL:https://www.mindfuldirectory.org/event/10-week-certificate-training-on-the-mindfulness-based-stress-reduction-for-teens-mbsr-t-program-for-professionals-30-ce-cme-credits-available-3/2025-02-25/
LOCATION:Stressed Teens Online
CATEGORIES:Professional Development
ATTACH;FMTTYPE=image/png:https://www.mindfuldirectory.org/wp-content/uploads/2023/02/mindfulness-directory-mbsrt-10-week-certificate-program-for-professionals-square-01.png
END:VEVENT
END:VCALENDAR